BEGIN:VCALENDAR
VERSION:2.0
PRODID:-//The American Educational Scholarship Fund - ECPv4.7.4//NONSGML v1.0//EN
CALSCALE:GREGORIAN
METHOD:PUBLISH
X-WR-CALNAME:The American Educational Scholarship Fund
X-ORIGINAL-URL:https://aesfcollege.org
X-WR-CALDESC:Events for The American Educational Scholarship Fund
BEGIN:VEVENT
DTSTART;TZID=America/New_York:20220128T190000
DTEND;TZID=America/New_York:20220128T190000
DTSTAMP:20260421T094537
CREATED:20220118T175130Z
LAST-MODIFIED:20220124T164213Z
UID:469-1643396400-1643396400@aesfcollege.org
SUMMARY:Blood\, Sweat and Tears Celebrity Basketball
DESCRIPTION:Re-Scheduled for Friday\, January 28\, 2022\nHALF COURT SCHOLARSHIP SHOT : EMAIL – AESFSCHOLARSHIP@GMAIL.COM  FOR INFO \nhttps://www.eventbrite.com/e/blood-sweat-tears-celebrity-basketball-game-tickets-234160740077 \n \n
URL:https://aesfcollege.org/event/blood-sweat-and-tears-celebrity-basketball
LOCATION:250 Will Ross Court\, Chamblee\, GA\, United States
CATEGORIES:Calendar
ORGANIZER;CN="AESF%2C%20Inc.":MAILTO:scholarships@aesfcollege.org
END:VEVENT
END:VCALENDAR