BEGIN:VCALENDAR
VERSION:2.0
PRODID:-//The American Educational Scholarship Fund - ECPv4.7.4//NONSGML v1.0//EN
CALSCALE:GREGORIAN
METHOD:PUBLISH
X-WR-CALNAME:The American Educational Scholarship Fund
X-ORIGINAL-URL:https://aesfcollege.org
X-WR-CALDESC:Events for The American Educational Scholarship Fund
BEGIN:VEVENT
DTSTART;VALUE=DATE:20210901
DTEND;VALUE=DATE:20210902
DTSTAMP:20260421T094823
CREATED:20170419T152720Z
LAST-MODIFIED:20220123T165753Z
UID:170-1630454400-1630540799@aesfcollege.org
SUMMARY:Application Opens
DESCRIPTION:
URL:https://aesfcollege.org/event/application-opens
CATEGORIES:Calendar
ORGANIZER;CN="AESF%2C%20Inc.":MAILTO:scholarships@aesfcollege.org
END:VEVENT
END:VCALENDAR